Package: SigFuge Version: 1.47.0 Command: /Library/Frameworks/R.framework/Resources/bin/R CMD build --keep-empty-dirs --no-resave-data SigFuge StartedAt: 2025-10-03 17:43:13 -0400 (Fri, 03 Oct 2025) EndedAt: 2025-10-03 17:43:29 -0400 (Fri, 03 Oct 2025) EllapsedTime: 16.2 seconds RetCode: 1 Status: ERROR PackageFile: None PackageFileSize: NA