Package: SigFuge Version: 1.47.0 Command: rm -rf SigFuge.buildbin-libdir && mkdir SigFuge.buildbin-libdir && /Users/biocbuild/BBS/utils/build-universal.sh SigFuge_1.47.0.tar.gz /Library/Frameworks/R.framework/Resources/bin/R SigFuge.buildbin-libdir StartedAt: 2025-09-10 23:54:48 -0400 (Wed, 10 Sep 2025) EndedAt: 2025-09-10 23:54:54 -0400 (Wed, 10 Sep 2025) EllapsedTime: 6.1 seconds RetCode: 0 Status: OK PackageFile: SigFuge_1.47.0.tgz PackageFileSize: 1.494 MiB