Package: SigCheck Version: 2.41.0 Command: F:\biocbuild\bbs-3.22-bioc\R\bin\R.exe CMD INSTALL SigCheck StartedAt: 2025-07-24 16:25:12 -0400 (Thu, 24 Jul 2025) EndedAt: 2025-07-24 16:26:07 -0400 (Thu, 24 Jul 2025) EllapsedTime: 55.2 seconds RetCode: 0 Status: OK