Package: SigCheck Version: 2.41.0 Command: chmod a+r SigCheck -R && F:\biocbuild\bbs-3.22-bioc\R\bin\R.exe CMD build --keep-empty-dirs --no-resave-data SigCheck StartedAt: 2025-07-24 22:20:22 -0400 (Thu, 24 Jul 2025) EndedAt: 2025-07-24 22:22:09 -0400 (Thu, 24 Jul 2025) EllapsedTime: 106.8 seconds RetCode: 0 Status: OK PackageFile: SigCheck_2.41.0.tar.gz PackageFileSize: 370.4 KiB