Package: SigCheck Version: 2.41.0 Command: /Library/Frameworks/R.framework/Resources/bin/R CMD build --keep-empty-dirs --no-resave-data SigCheck StartedAt: 2025-07-14 17:34:45 -0400 (Mon, 14 Jul 2025) EndedAt: 2025-07-14 17:35:12 -0400 (Mon, 14 Jul 2025) EllapsedTime: 27.3 seconds RetCode: 0 Status: OK PackageFile: SigCheck_2.41.0.tar.gz PackageFileSize: 369.4 KiB