Package: SigCheck Version: 2.41.0 Command: rm -rf SigCheck.buildbin-libdir && mkdir SigCheck.buildbin-libdir && /Users/biocbuild/BBS/utils/build-universal.sh SigCheck_2.41.0.tar.gz /Library/Frameworks/R.framework/Resources/bin/R SigCheck.buildbin-libdir StartedAt: 2025-07-14 22:35:16 -0400 (Mon, 14 Jul 2025) EndedAt: 2025-07-14 22:35:29 -0400 (Mon, 14 Jul 2025) EllapsedTime: 13.3 seconds RetCode: 0 Status: OK PackageFile: SigCheck_2.41.0.tgz PackageFileSize: 732 KiB