Package: SiPSiC Version: 1.9.0 Command: chmod a+r SiPSiC -R && F:\biocbuild\bbs-3.22-bioc\R\bin\R.exe CMD build --keep-empty-dirs --no-resave-data SiPSiC StartedAt: 2025-07-11 22:08:29 -0400 (Fri, 11 Jul 2025) EndedAt: 2025-07-11 22:09:12 -0400 (Fri, 11 Jul 2025) EllapsedTime: 43.0 seconds RetCode: 0 Status: OK PackageFile: SiPSiC_1.9.0.tar.gz PackageFileSize: 236.8 KiB