Package: ShortRead Version: 1.67.0 Command: F:\biocbuild\bbs-3.22-bioc\R\bin\R.exe CMD check --no-multiarch --install=check:ShortRead.install-out.txt --library=F:\biocbuild\bbs-3.22-bioc\R\library --no-vignettes --timings ShortRead_1.67.0.tar.gz StartedAt: 2025-06-30 06:23:22 -0400 (Mon, 30 Jun 2025) EndedAt: 2025-06-30 06:34:01 -0400 (Mon, 30 Jun 2025) EllapsedTime: 639.2 seconds RetCode: 0 Status: WARNINGS CheckDir: ShortRead.Rcheck Warnings: 1