Package: SharedObject Version: 1.23.0 Command: F:\biocbuild\bbs-3.22-bioc\R\bin\R.exe CMD INSTALL SharedObject StartedAt: 2025-07-04 15:20:41 -0400 (Fri, 04 Jul 2025) EndedAt: 2025-07-04 15:23:38 -0400 (Fri, 04 Jul 2025) EllapsedTime: 177.2 seconds RetCode: 0 Status: OK