Package: SharedObject Version: 1.23.0 Command: F:\biocbuild\bbs-3.22-bioc\R\bin\R.exe CMD check --no-multiarch --install=check:SharedObject.install-out.txt --library=F:\biocbuild\bbs-3.22-bioc\R\library --no-vignettes --timings SharedObject_1.23.0.tar.gz StartedAt: 2025-07-07 06:23:52 -0400 (Mon, 07 Jul 2025) EndedAt: 2025-07-07 06:25:37 -0400 (Mon, 07 Jul 2025) EllapsedTime: 105.1 seconds RetCode: 0 Status: WARNINGS CheckDir: SharedObject.Rcheck Warnings: 1