Package: SharedObject Version: 1.23.0 Command: rm -rf SharedObject.buildbin-libdir && mkdir SharedObject.buildbin-libdir && F:\biocbuild\bbs-3.22-bioc\R\bin\R.exe CMD INSTALL --build --library=SharedObject.buildbin-libdir SharedObject_1.23.0.tar.gz StartedAt: 2025-07-05 09:54:03 -0400 (Sat, 05 Jul 2025) EndedAt: 2025-07-05 09:55:54 -0400 (Sat, 05 Jul 2025) EllapsedTime: 111.1 seconds RetCode: 0 Status: OK PackageFile: SharedObject_1.23.0.zip PackageFileSize: 1.31 MiB