Package: Seqinfo Version: 0.99.1 Command: /home/biocbuild/R/R/bin/R CMD INSTALL Seqinfo StartedAt: 2025-07-07 20:20:41 -0000 (Mon, 07 Jul 2025) EndedAt: 2025-07-07 20:20:58 -0000 (Mon, 07 Jul 2025) EllapsedTime: 17.0 seconds RetCode: 0 Status: OK