Package: Seqinfo Version: 0.99.1 Command: F:\biocbuild\bbs-3.22-bioc\R\bin\R.exe CMD INSTALL Seqinfo StartedAt: 2025-07-16 15:29:00 -0400 (Wed, 16 Jul 2025) EndedAt: 2025-07-16 15:29:31 -0400 (Wed, 16 Jul 2025) EllapsedTime: 31.4 seconds RetCode: 0 Status: OK