Package: Seqinfo Version: 0.99.1 Command: chmod a+r Seqinfo -R && F:\biocbuild\bbs-3.22-bioc\R\bin\R.exe CMD build --keep-empty-dirs --no-resave-data Seqinfo StartedAt: 2025-07-16 22:03:14 -0400 (Wed, 16 Jul 2025) EndedAt: 2025-07-16 22:04:04 -0400 (Wed, 16 Jul 2025) EllapsedTime: 50.3 seconds RetCode: 0 Status: OK PackageFile: Seqinfo_0.99.1.tar.gz PackageFileSize: 246.5 KiB