Package: SeqVarTools Version: 1.47.0 Command: /Library/Frameworks/R.framework/Resources/bin/R CMD build --keep-empty-dirs --no-resave-data SeqVarTools StartedAt: 2025-10-05 18:58:41 -0400 (Sun, 05 Oct 2025) EndedAt: 2025-10-05 18:59:49 -0400 (Sun, 05 Oct 2025) EllapsedTime: 67.4 seconds RetCode: 0 Status: OK PackageFile: SeqVarTools_1.47.0.tar.gz PackageFileSize: 999.1 KiB