Package: SeqVarTools Version: 1.47.0 Command: rm -rf SeqVarTools.buildbin-libdir && mkdir SeqVarTools.buildbin-libdir && /Users/biocbuild/BBS/utils/build-universal.sh SeqVarTools_1.47.0.tar.gz /Library/Frameworks/R.framework/Resources/bin/R SeqVarTools.buildbin-libdir StartedAt: 2025-10-06 02:24:55 -0400 (Mon, 06 Oct 2025) EndedAt: 2025-10-06 02:25:28 -0400 (Mon, 06 Oct 2025) EllapsedTime: 32.2 seconds RetCode: 0 Status: OK PackageFile: SeqVarTools_1.47.0.tgz PackageFileSize: 1.426 MiB