Package: SeqSQC Version: 1.31.0 Command: F:\biocbuild\bbs-3.22-bioc\R\bin\R.exe CMD INSTALL SeqSQC StartedAt: 2025-07-04 15:49:13 -0400 (Fri, 04 Jul 2025) EndedAt: 2025-07-04 15:49:52 -0400 (Fri, 04 Jul 2025) EllapsedTime: 39.3 seconds RetCode: 0 Status: OK