Package: SeqSQC Version: 1.31.0 Command: chmod a+r SeqSQC -R && F:\biocbuild\bbs-3.22-bioc\R\bin\R.exe CMD build --keep-empty-dirs --no-resave-data SeqSQC StartedAt: 2025-07-04 22:02:50 -0400 (Fri, 04 Jul 2025) EndedAt: 2025-07-04 22:05:31 -0400 (Fri, 04 Jul 2025) EllapsedTime: 161.1 seconds RetCode: 0 Status: OK PackageFile: SeqSQC_1.31.0.tar.gz PackageFileSize: 4.338 MiB