Package: SeqGate Version: 1.19.0 Command: F:\biocbuild\bbs-3.22-bioc\R\bin\R.exe CMD check --no-multiarch --install=check:SeqGate.install-out.txt --library=F:\biocbuild\bbs-3.22-bioc\R\library --no-vignettes --timings SeqGate_1.19.0.tar.gz StartedAt: 2025-07-15 06:30:48 -0400 (Tue, 15 Jul 2025) EndedAt: 2025-07-15 06:33:52 -0400 (Tue, 15 Jul 2025) EllapsedTime: 184.1 seconds RetCode: 0 Status: OK CheckDir: SeqGate.Rcheck Warnings: 0