Package: SeqGate Version: 1.19.0 Command: chmod a+r SeqGate -R && F:\biocbuild\bbs-3.22-bioc\R\bin\R.exe CMD build --keep-empty-dirs --no-resave-data SeqGate StartedAt: 2025-07-14 22:04:37 -0400 (Mon, 14 Jul 2025) EndedAt: 2025-07-14 22:05:41 -0400 (Mon, 14 Jul 2025) EllapsedTime: 63.8 seconds RetCode: 0 Status: OK PackageFile: SeqGate_1.19.0.tar.gz PackageFileSize: 248.8 KiB