Package: SeqGate Version: 1.19.0 Command: rm -rf SeqGate.buildbin-libdir && mkdir SeqGate.buildbin-libdir && F:\biocbuild\bbs-3.22-bioc\R\bin\R.exe CMD INSTALL --build --library=SeqGate.buildbin-libdir SeqGate_1.19.0.tar.gz StartedAt: 2025-07-15 09:57:01 -0400 (Tue, 15 Jul 2025) EndedAt: 2025-07-15 09:57:23 -0400 (Tue, 15 Jul 2025) EllapsedTime: 22.5 seconds RetCode: 0 Status: OK PackageFile: SeqGate_1.19.0.zip PackageFileSize: 269.6 KiB