Package: SeqGSEA Version: 1.49.0 Command: F:\biocbuild\bbs-3.22-bioc\R\bin\R.exe CMD INSTALL SeqGSEA StartedAt: 2025-07-21 16:18:57 -0400 (Mon, 21 Jul 2025) EndedAt: 2025-07-21 16:19:52 -0400 (Mon, 21 Jul 2025) EllapsedTime: 55.4 seconds RetCode: 0 Status: OK