Package: SeqGSEA Version: 1.49.0 Command: chmod a+r SeqGSEA -R && F:\biocbuild\bbs-3.22-bioc\R\bin\R.exe CMD build --keep-empty-dirs --no-resave-data SeqGSEA StartedAt: 2025-07-21 22:07:13 -0400 (Mon, 21 Jul 2025) EndedAt: 2025-07-21 22:10:34 -0400 (Mon, 21 Jul 2025) EllapsedTime: 201.5 seconds RetCode: 0 Status: OK PackageFile: SeqGSEA_1.49.0.tar.gz PackageFileSize: 1.118 MiB