Package: SeqGSEA Version: 1.49.0 Command: rm -rf SeqGSEA.buildbin-libdir && mkdir SeqGSEA.buildbin-libdir && F:\biocbuild\bbs-3.22-bioc\R\bin\R.exe CMD INSTALL --build --library=SeqGSEA.buildbin-libdir SeqGSEA_1.49.0.tar.gz StartedAt: 2025-07-22 10:07:32 -0400 (Tue, 22 Jul 2025) EndedAt: 2025-07-22 10:08:45 -0400 (Tue, 22 Jul 2025) EllapsedTime: 72.9 seconds RetCode: 0 Status: OK PackageFile: SeqGSEA_1.49.0.zip PackageFileSize: 1.582 MiB