Package: SeqGSEA Version: 1.49.0 Command: /Library/Frameworks/R.framework/Resources/bin/R CMD INSTALL SeqGSEA StartedAt: 2025-07-01 15:35:21 -0400 (Tue, 01 Jul 2025) EndedAt: 2025-07-01 15:36:05 -0400 (Tue, 01 Jul 2025) EllapsedTime: 43.9 seconds RetCode: 0 Status: OK