Package: SeqGSEA Version: 1.49.0 Command: /Library/Frameworks/R.framework/Resources/bin/R CMD check --install=check:SeqGSEA.install-out.txt --library=/Library/Frameworks/R.framework/Resources/library --no-vignettes --timings SeqGSEA_1.49.0.tar.gz StartedAt: 2025-07-02 23:23:43 -0400 (Wed, 02 Jul 2025) EndedAt: 2025-07-02 23:29:29 -0400 (Wed, 02 Jul 2025) EllapsedTime: 346.2 seconds RetCode: 0 Status: OK CheckDir: SeqGSEA.Rcheck Warnings: 0