Package: SeqGSEA Version: 1.49.0 Command: rm -rf SeqGSEA.buildbin-libdir && mkdir SeqGSEA.buildbin-libdir && /Users/biocbuild/BBS/utils/build-universal.sh SeqGSEA_1.49.0.tar.gz /Library/Frameworks/R.framework/Resources/bin/R SeqGSEA.buildbin-libdir StartedAt: 2025-07-02 01:19:56 -0400 (Wed, 02 Jul 2025) EndedAt: 2025-07-02 01:20:43 -0400 (Wed, 02 Jul 2025) EllapsedTime: 47.2 seconds RetCode: 0 Status: OK PackageFile: SeqGSEA_1.49.0.tgz PackageFileSize: 2.079 MiB