Package: SeqGSEA Version: 1.49.0 Command: /Library/Frameworks/R.framework/Resources/bin/R CMD build --keep-empty-dirs --no-resave-data SeqGSEA StartedAt: 2025-06-29 17:34:40 -0400 (Sun, 29 Jun 2025) EndedAt: 2025-06-29 17:35:38 -0400 (Sun, 29 Jun 2025) EllapsedTime: 57.7 seconds RetCode: 0 Status: OK PackageFile: SeqGSEA_1.49.0.tar.gz PackageFileSize: 1.602 MiB