Package: SeqGSEA Version: 1.49.0 Command: rm -rf SeqGSEA.buildbin-libdir && mkdir SeqGSEA.buildbin-libdir && /Users/biocbuild/BBS/utils/build-universal.sh SeqGSEA_1.49.0.tar.gz /Library/Frameworks/R.framework/Resources/bin/R SeqGSEA.buildbin-libdir StartedAt: 2025-06-29 22:34:04 -0400 (Sun, 29 Jun 2025) EndedAt: 2025-06-29 22:34:19 -0400 (Sun, 29 Jun 2025) EllapsedTime: 14.3 seconds RetCode: 0 Status: OK PackageFile: SeqGSEA_1.49.0.tgz PackageFileSize: 2.093 MiB