Package: SemDist Version: 1.43.0 Command: /home/biocbuild/R/R/bin/R CMD INSTALL SemDist StartedAt: 2025-06-30 21:12:12 -0000 (Mon, 30 Jun 2025) EndedAt: 2025-06-30 21:12:31 -0000 (Mon, 30 Jun 2025) EllapsedTime: 18.3 seconds RetCode: 0 Status: OK