Package: SemDist Version: 1.43.0 Command: rm -rf SemDist.buildbin-libdir && mkdir SemDist.buildbin-libdir && F:\biocbuild\bbs-3.22-bioc\R\bin\R.exe CMD INSTALL --build --library=SemDist.buildbin-libdir SemDist_1.43.0.tar.gz StartedAt: 2025-06-30 09:45:19 -0400 (Mon, 30 Jun 2025) EndedAt: 2025-06-30 09:45:49 -0400 (Mon, 30 Jun 2025) EllapsedTime: 29.7 seconds RetCode: 0 Status: OK PackageFile: SemDist_1.43.0.zip PackageFileSize: 1.918 MiB