Package: SemDist Version: 1.43.0 Command: /Library/Frameworks/R.framework/Resources/bin/R CMD check --install=check:SemDist.install-out.txt --library=/Library/Frameworks/R.framework/Resources/library --no-vignettes --timings SemDist_1.43.0.tar.gz StartedAt: 2025-06-29 23:16:36 -0400 (Sun, 29 Jun 2025) EndedAt: 2025-06-29 23:19:36 -0400 (Sun, 29 Jun 2025) EllapsedTime: 179.9 seconds RetCode: 0 Status: OK CheckDir: SemDist.Rcheck Warnings: 0