Package: SemDist Version: 1.43.0 Command: rm -rf SemDist.buildbin-libdir && mkdir SemDist.buildbin-libdir && /Users/biocbuild/BBS/utils/build-universal.sh SemDist_1.43.0.tar.gz /Library/Frameworks/R.framework/Resources/bin/R SemDist.buildbin-libdir StartedAt: 2025-06-29 22:33:56 -0400 (Sun, 29 Jun 2025) EndedAt: 2025-06-29 22:34:02 -0400 (Sun, 29 Jun 2025) EllapsedTime: 6.1 seconds RetCode: 0 Status: OK PackageFile: SemDist_1.43.0.tgz PackageFileSize: 1.991 MiB