Package: ScreenR Version: 1.11.0 Command: F:\biocbuild\bbs-3.22-bioc\R\bin\R.exe CMD INSTALL ScreenR StartedAt: 2025-07-02 15:34:31 -0400 (Wed, 02 Jul 2025) EndedAt: 2025-07-02 15:35:08 -0400 (Wed, 02 Jul 2025) EllapsedTime: 36.6 seconds RetCode: 0 Status: OK