Package: Sconify Version: 1.29.0 Command: F:\biocbuild\bbs-3.22-bioc\R\bin\R.exe CMD INSTALL Sconify StartedAt: 2025-08-14 15:43:41 -0400 (Thu, 14 Aug 2025) EndedAt: 2025-08-14 15:44:10 -0400 (Thu, 14 Aug 2025) EllapsedTime: 28.5 seconds RetCode: 0 Status: OK