Package: Sconify Version: 1.29.0 Command: rm -rf Sconify.buildbin-libdir && mkdir Sconify.buildbin-libdir && /Users/biocbuild/BBS/utils/build-universal.sh Sconify_1.29.0.tar.gz /Library/Frameworks/R.framework/Resources/bin/R Sconify.buildbin-libdir StartedAt: 2025-07-14 22:34:17 -0400 (Mon, 14 Jul 2025) EndedAt: 2025-07-14 22:34:22 -0400 (Mon, 14 Jul 2025) EllapsedTime: 5.1 seconds RetCode: 0 Status: OK PackageFile: Sconify_1.29.0.tgz PackageFileSize: 3.613 MiB