Package: ScaledMatrix Version: 1.17.0 Command: chmod a+r ScaledMatrix -R && F:\biocbuild\bbs-3.22-bioc\R\bin\R.exe CMD build --keep-empty-dirs --no-resave-data ScaledMatrix StartedAt: 2025-07-16 21:48:51 -0400 (Wed, 16 Jul 2025) EndedAt: 2025-07-16 21:52:01 -0400 (Wed, 16 Jul 2025) EllapsedTime: 190.3 seconds RetCode: 0 Status: OK PackageFile: ScaledMatrix_1.17.0.tar.gz PackageFileSize: 306.5 KiB