Package: ScaledMatrix Version: 1.17.0 Command: rm -rf ScaledMatrix.buildbin-libdir && mkdir ScaledMatrix.buildbin-libdir && F:\biocbuild\bbs-3.22-bioc\R\bin\R.exe CMD INSTALL --build --library=ScaledMatrix.buildbin-libdir ScaledMatrix_1.17.0.tar.gz StartedAt: 2025-07-17 09:54:42 -0400 (Thu, 17 Jul 2025) EndedAt: 2025-07-17 09:56:06 -0400 (Thu, 17 Jul 2025) EllapsedTime: 84.2 seconds RetCode: 0 Status: OK PackageFile: ScaledMatrix_1.17.0.zip PackageFileSize: 610.4 KiB