Package: SamSPECTRAL Version: 1.63.0 Command: F:\biocbuild\bbs-3.22-bioc\R\bin\R.exe CMD INSTALL SamSPECTRAL StartedAt: 2025-07-07 15:17:29 -0400 (Mon, 07 Jul 2025) EndedAt: 2025-07-07 15:17:53 -0400 (Mon, 07 Jul 2025) EllapsedTime: 24.3 seconds RetCode: 0 Status: OK