Package: SamSPECTRAL Version: 1.63.0 Command: F:\biocbuild\bbs-3.22-bioc\R\bin\R.exe CMD check --no-multiarch --install=check:SamSPECTRAL.install-out.txt --library=F:\biocbuild\bbs-3.22-bioc\R\library --no-vignettes --timings SamSPECTRAL_1.63.0.tar.gz StartedAt: 2025-07-08 06:05:35 -0400 (Tue, 08 Jul 2025) EndedAt: 2025-07-08 06:06:12 -0400 (Tue, 08 Jul 2025) EllapsedTime: 36.7 seconds RetCode: 0 Status: WARNINGS CheckDir: SamSPECTRAL.Rcheck Warnings: 1