Package: SVP Version: 1.1.0 Command: rm -rf SVP.buildbin-libdir && mkdir SVP.buildbin-libdir && F:\biocbuild\bbs-3.22-bioc\R\bin\R.exe CMD INSTALL --build --library=SVP.buildbin-libdir SVP_1.1.0.tar.gz StartedAt: 2025-08-15 11:27:12 -0400 (Fri, 15 Aug 2025) EndedAt: 2025-08-15 11:31:09 -0400 (Fri, 15 Aug 2025) EllapsedTime: 236.4 seconds RetCode: 0 Status: OK PackageFile: SVP_1.1.0.zip PackageFileSize: 4.642 MiB