Package: SVP Version: 1.1.0 Command: /Library/Frameworks/R.framework/Resources/bin/R CMD INSTALL SVP StartedAt: 2025-07-02 15:20:26 -0400 (Wed, 02 Jul 2025) EndedAt: 2025-07-02 15:23:16 -0400 (Wed, 02 Jul 2025) EllapsedTime: 170.0 seconds RetCode: 0 Status: OK