Package: SVP Version: 1.1.0 Command: /Library/Frameworks/R.framework/Resources/bin/R CMD check --install=check:SVP.install-out.txt --library=/Library/Frameworks/R.framework/Resources/library --no-vignettes --timings SVP_1.1.0.tar.gz StartedAt: 2025-07-03 23:57:54 -0400 (Thu, 03 Jul 2025) EndedAt: 2025-07-04 00:03:03 -0400 (Fri, 04 Jul 2025) EllapsedTime: 309.2 seconds RetCode: 0 Status: OK CheckDir: SVP.Rcheck Warnings: 0