Package: SVP Version: 1.1.0 Command: /Library/Frameworks/R.framework/Resources/bin/R CMD build --keep-empty-dirs --no-resave-data SVP StartedAt: 2025-07-02 18:35:06 -0400 (Wed, 02 Jul 2025) EndedAt: 2025-07-02 18:39:20 -0400 (Wed, 02 Jul 2025) EllapsedTime: 254.0 seconds RetCode: 0 Status: OK PackageFile: SVP_1.1.0.tar.gz PackageFileSize: 4.614 MiB