Package: SVP Version: 1.1.0 Command: /Library/Frameworks/R.framework/Resources/bin/R CMD build --keep-empty-dirs --no-resave-data SVP StartedAt: 2025-07-24 17:53:23 -0400 (Thu, 24 Jul 2025) EndedAt: 2025-07-24 17:55:00 -0400 (Thu, 24 Jul 2025) EllapsedTime: 97.1 seconds RetCode: 0 Status: OK PackageFile: SVP_1.1.0.tar.gz PackageFileSize: 4.595 MiB