Package: SVP Version: 1.1.0 Command: rm -rf SVP.buildbin-libdir && mkdir SVP.buildbin-libdir && /Users/biocbuild/BBS/utils/build-universal.sh SVP_1.1.0.tar.gz /Library/Frameworks/R.framework/Resources/bin/R SVP.buildbin-libdir StartedAt: 2025-07-24 22:50:34 -0400 (Thu, 24 Jul 2025) EndedAt: 2025-07-24 22:51:22 -0400 (Thu, 24 Jul 2025) EllapsedTime: 48.2 seconds RetCode: 0 Status: OK PackageFile: SVP_1.1.0.tgz PackageFileSize: 5.231 MiB