Package: SVMDO Version: 1.9.0 Command: /home/biocbuild/bbs-3.22-bioc/R/bin/R CMD check --install=check:SVMDO.install-out.txt --library=/home/biocbuild/bbs-3.22-bioc/R/site-library --timings SVMDO_1.9.0.tar.gz StartedAt: 2025-07-02 03:04:52 -0400 (Wed, 02 Jul 2025) EndedAt: 2025-07-02 03:09:49 -0400 (Wed, 02 Jul 2025) EllapsedTime: 297.4 seconds RetCode: 0 Status: OK CheckDir: SVMDO.Rcheck Warnings: 0