Package: SVMDO Version: 1.9.0 Command: /home/biocbuild/bbs-3.22-bioc/R/bin/R CMD build --keep-empty-dirs --no-resave-data --md5 SVMDO StartedAt: 2025-07-01 19:28:07 -0400 (Tue, 01 Jul 2025) EndedAt: 2025-07-01 19:28:46 -0400 (Tue, 01 Jul 2025) EllapsedTime: 39.0 seconds RetCode: 0 Status: OK PackageFile: SVMDO_1.9.0.tar.gz PackageFileSize: 2.383 MiB