Package: SVMDO Version: 1.9.0 Command: /Library/Frameworks/R.framework/Resources/bin/R CMD check --install=check:SVMDO.install-out.txt --library=/Library/Frameworks/R.framework/Resources/library --no-vignettes --timings SVMDO_1.9.0.tar.gz StartedAt: 2025-07-17 23:56:22 -0400 (Thu, 17 Jul 2025) EndedAt: 2025-07-18 00:01:49 -0400 (Fri, 18 Jul 2025) EllapsedTime: 327.2 seconds RetCode: 0 Status: OK CheckDir: SVMDO.Rcheck Warnings: 0