Package: SVMDO Version: 1.9.0 Command: rm -rf SVMDO.buildbin-libdir && mkdir SVMDO.buildbin-libdir && /Users/biocbuild/BBS/utils/build-universal.sh SVMDO_1.9.0.tar.gz /Library/Frameworks/R.framework/Resources/bin/R SVMDO.buildbin-libdir StartedAt: 2025-07-15 01:23:49 -0400 (Tue, 15 Jul 2025) EndedAt: 2025-07-15 01:24:40 -0400 (Tue, 15 Jul 2025) EllapsedTime: 51.1 seconds RetCode: 0 Status: OK PackageFile: SVMDO_1.9.0.tgz PackageFileSize: 2.361 MiB